Package: calm Version: 1.18.0 Command: /home/biocbuild/bbs-3.19-bioc/R/bin/R CMD build --keep-empty-dirs --no-resave-data calm StartedAt: 2024-10-16 17:28:12 -0400 (Wed, 16 Oct 2024) EndedAt: 2024-10-16 17:30:07 -0400 (Wed, 16 Oct 2024) EllapsedTime: 115.2 seconds RetCode: 0 Status: OK PackageFile: calm_1.18.0.tar.gz PackageFileSize: 389.6 KiB