Package: calm Version: 1.18.0 Command: /Library/Frameworks/R.framework/Resources/bin/R CMD INSTALL calm StartedAt: 2024-10-16 15:12:46 -0400 (Wed, 16 Oct 2024) EndedAt: 2024-10-16 15:13:11 -0400 (Wed, 16 Oct 2024) EllapsedTime: 25.2 seconds RetCode: 0 Status: OK