Package: calm Version: 1.18.0 Command: /Library/Frameworks/R.framework/Resources/bin/R CMD INSTALL calm StartedAt: 2024-06-09 15:07:15 -0400 (Sun, 09 Jun 2024) EndedAt: 2024-06-09 15:07:48 -0400 (Sun, 09 Jun 2024) EllapsedTime: 33.5 seconds RetCode: 0 Status: OK