Package: calm Version: 1.18.0 Command: /home/biocbuild/R/R-beta-2024-04-15_r86425/bin/R CMD check --install=check:calm.install-out.txt --library=/home/biocbuild/R/R-beta-2024-04-15_r86425/site-library --no-vignettes --timings calm_1.18.0.tar.gz StartedAt: 2024-05-09 05:31:07 -0000 (Thu, 09 May 2024) EndedAt: 2024-05-09 05:32:33 -0000 (Thu, 09 May 2024) EllapsedTime: 86.1 seconds RetCode: 0 Status: OK CheckDir: calm.Rcheck Warnings: 0