Package: calm Version: 1.18.0 Command: rm -rf calm.buildbin-libdir && mkdir calm.buildbin-libdir && /Users/biocbuild/BBS/utils/build-universal.sh calm_1.18.0.tar.gz /Library/Frameworks/R.framework/Resources/bin/R calm.buildbin-libdir StartedAt: 2024-06-11 10:26:01 -0400 (Tue, 11 Jun 2024) EndedAt: 2024-06-11 10:26:13 -0400 (Tue, 11 Jun 2024) EllapsedTime: 12.2 seconds RetCode: 0 Status: OK PackageFile: calm_1.18.0.tgz PackageFileSize: 427.9 KiB