Package: cageminer Version: 1.10.0 Command: /home/biocbuild/bbs-3.19-bioc/R/bin/R CMD INSTALL cageminer StartedAt: 2024-10-16 16:42:20 -0400 (Wed, 16 Oct 2024) EndedAt: 2024-10-16 16:43:15 -0400 (Wed, 16 Oct 2024) EllapsedTime: 55.0 seconds RetCode: 0 Status: OK