Package: cageminer Version: 1.10.0 Command: /home/biocbuild/bbs-3.19-bioc/R/bin/R CMD build --keep-empty-dirs --no-resave-data cageminer StartedAt: 2024-10-16 17:27:04 -0400 (Wed, 16 Oct 2024) EndedAt: 2024-10-16 17:29:19 -0400 (Wed, 16 Oct 2024) EllapsedTime: 135.2 seconds RetCode: 0 Status: OK PackageFile: cageminer_1.10.0.tar.gz PackageFileSize: 1.195 MiB