Package: cageminer Version: 1.10.0 Command: /Library/Frameworks/R.framework/Resources/bin/R CMD INSTALL cageminer StartedAt: 2024-06-09 17:29:07 -0400 (Sun, 09 Jun 2024) EndedAt: 2024-06-09 17:30:26 -0400 (Sun, 09 Jun 2024) EllapsedTime: 79.4 seconds RetCode: 0 Status: OK