Package: cTRAP Version: 1.22.0 Command: E:\biocbuild\bbs-3.19-bioc\R\bin\R.exe CMD INSTALL cTRAP StartedAt: 2024-10-16 16:56:01 -0400 (Wed, 16 Oct 2024) EndedAt: 2024-10-16 16:57:10 -0400 (Wed, 16 Oct 2024) EllapsedTime: 69.4 seconds RetCode: 0 Status: OK