Package: cTRAP Version: 1.22.0 Command: /home/biocbuild/bbs-3.19-bioc/R/bin/R CMD check --install=check:cTRAP.install-out.txt --library=/home/biocbuild/bbs-3.19-bioc/R/site-library --timings cTRAP_1.22.0.tar.gz StartedAt: 2024-10-16 23:17:16 -0400 (Wed, 16 Oct 2024) EndedAt: 2024-10-16 23:32:39 -0400 (Wed, 16 Oct 2024) EllapsedTime: 922.8 seconds RetCode: 0 Status: OK CheckDir: cTRAP.Rcheck Warnings: 0