Package: cTRAP Version: 1.22.0 Command: /home/biocbuild/bbs-3.19-bioc/R/bin/R CMD build --keep-empty-dirs --no-resave-data cTRAP StartedAt: 2024-10-16 18:01:36 -0400 (Wed, 16 Oct 2024) EndedAt: 2024-10-16 18:04:47 -0400 (Wed, 16 Oct 2024) EllapsedTime: 191.4 seconds RetCode: 0 Status: OK PackageFile: cTRAP_1.22.0.tar.gz PackageFileSize: 4.84 MiB