Package: cTRAP Version: 1.22.0 Command: /Library/Frameworks/R.framework/Resources/bin/R CMD build --keep-empty-dirs --no-resave-data cTRAP StartedAt: 2024-10-16 18:21:22 -0400 (Wed, 16 Oct 2024) EndedAt: 2024-10-16 18:25:55 -0400 (Wed, 16 Oct 2024) EllapsedTime: 272.7 seconds RetCode: 0 Status: OK PackageFile: cTRAP_1.22.0.tar.gz PackageFileSize: 5.288 MiB