Package: cTRAP Version: 1.22.0 Command: rm -rf cTRAP.buildbin-libdir && mkdir cTRAP.buildbin-libdir && /Users/biocbuild/BBS/utils/build-universal.sh cTRAP_1.22.0.tar.gz /Library/Frameworks/R.framework/Resources/bin/R cTRAP.buildbin-libdir StartedAt: 2024-06-10 00:13:40 -0400 (Mon, 10 Jun 2024) EndedAt: 2024-06-10 00:14:26 -0400 (Mon, 10 Jun 2024) EllapsedTime: 46.4 seconds RetCode: 0 Status: OK PackageFile: cTRAP_1.22.0.tgz PackageFileSize: 6.536 MiB