Package: cBioPortalData Version: 2.16.0 Command: chmod a+r cBioPortalData -R && E:\biocbuild\bbs-3.19-bioc\R\bin\R.exe CMD build --keep-empty-dirs --no-resave-data cBioPortalData StartedAt: 2024-10-16 18:02:56 -0400 (Wed, 16 Oct 2024) EndedAt: 2024-10-16 18:06:10 -0400 (Wed, 16 Oct 2024) EllapsedTime: 194.1 seconds RetCode: 0 Status: OK PackageFile: cBioPortalData_2.16.0.tar.gz PackageFileSize: 968.8 KiB