Package: cBioPortalData Version: 2.16.0 Command: chmod a+r cBioPortalData -R && F:\biocbuild\bbs-3.19-bioc\R\bin\R.exe CMD build --keep-empty-dirs --no-resave-data cBioPortalData StartedAt: 2024-06-26 17:37:55 -0400 (Wed, 26 Jun 2024) EndedAt: 2024-06-26 17:41:04 -0400 (Wed, 26 Jun 2024) EllapsedTime: 188.6 seconds RetCode: 0 Status: OK PackageFile: cBioPortalData_2.16.0.tar.gz PackageFileSize: 968.4 KiB