Package: cBioPortalData Version: 2.16.0 Command: rm -rf cBioPortalData.buildbin-libdir && mkdir cBioPortalData.buildbin-libdir && F:\biocbuild\bbs-3.19-bioc\R\bin\R.exe CMD INSTALL --build --library=cBioPortalData.buildbin-libdir cBioPortalData_2.16.0.tar.gz StartedAt: 2024-06-27 07:57:00 -0400 (Thu, 27 Jun 2024) EndedAt: 2024-06-27 07:57:58 -0400 (Thu, 27 Jun 2024) EllapsedTime: 57.3 seconds RetCode: 0 Status: OK PackageFile: cBioPortalData_2.16.0.zip PackageFileSize: 1.044 MiB