Package: cBioPortalData Version: 2.16.0 Command: /home/biocbuild/bbs-3.19-bioc/R/bin/R CMD build --keep-empty-dirs --no-resave-data cBioPortalData StartedAt: 2024-10-16 17:31:24 -0400 (Wed, 16 Oct 2024) EndedAt: 2024-10-16 17:33:29 -0400 (Wed, 16 Oct 2024) EllapsedTime: 125.2 seconds RetCode: 0 Status: OK PackageFile: cBioPortalData_2.16.0.tar.gz PackageFileSize: 1011 KiB