Package: cBioPortalData Version: 2.16.0 Command: /Library/Frameworks/R.framework/Resources/bin/R CMD check --install=check:cBioPortalData.install-out.txt --library=/Library/Frameworks/R.framework/Resources/library --no-vignettes --timings cBioPortalData_2.16.0.tar.gz StartedAt: 2024-10-17 02:18:51 -0400 (Thu, 17 Oct 2024) EndedAt: 2024-10-17 02:31:13 -0400 (Thu, 17 Oct 2024) EllapsedTime: 742.7 seconds RetCode: 0 Status: OK CheckDir: cBioPortalData.Rcheck Warnings: 0