Package: cBioPortalData Version: 2.16.0 Command: /Library/Frameworks/R.framework/Resources/bin/R CMD INSTALL cBioPortalData StartedAt: 2024-06-09 15:21:28 -0400 (Sun, 09 Jun 2024) EndedAt: 2024-06-09 15:22:22 -0400 (Sun, 09 Jun 2024) EllapsedTime: 54.1 seconds RetCode: 0 Status: OK