Package: cBioPortalData Version: 2.16.0 Command: /Library/Frameworks/R.framework/Resources/bin/R CMD check --install=check:cBioPortalData.install-out.txt --library=/Library/Frameworks/R.framework/Resources/library --no-vignettes --timings cBioPortalData_2.16.0.tar.gz StartedAt: 2024-06-09 19:15:29 -0400 (Sun, 09 Jun 2024) EndedAt: 2024-06-09 19:20:41 -0400 (Sun, 09 Jun 2024) EllapsedTime: 312.2 seconds RetCode: 1 Status: ERROR CheckDir: cBioPortalData.Rcheck Warnings: NA