Package: cBioPortalData Version: 2.16.0 Command: /home/biocbuild/R/R-beta-2024-04-15_r86425/bin/R CMD INSTALL cBioPortalData StartedAt: 2024-05-08 20:35:41 -0000 (Wed, 08 May 2024) EndedAt: 2024-05-08 20:36:39 -0000 (Wed, 08 May 2024) EllapsedTime: 57.8 seconds RetCode: 0 Status: OK