Package: cBioPortalData Version: 2.16.0 Command: /home/biocbuild/R/R-beta-2024-04-15_r86425/bin/R CMD build --keep-empty-dirs --no-resave-data cBioPortalData StartedAt: 2024-05-08 23:05:28 -0000 (Wed, 08 May 2024) EndedAt: 2024-05-08 23:08:58 -0000 (Wed, 08 May 2024) EllapsedTime: 209.3 seconds RetCode: 0 Status: OK PackageFile: cBioPortalData_2.16.0.tar.gz PackageFileSize: 1.051 MiB