Package: cBioPortalData Version: 2.16.0 Command: /Library/Frameworks/R.framework/Resources/bin/R CMD check --install=check:cBioPortalData.install-out.txt --library=/Library/Frameworks/R.framework/Resources/library --no-vignettes --timings cBioPortalData_2.16.0.tar.gz StartedAt: 2024-10-17 15:13:25 -0400 (Thu, 17 Oct 2024) EndedAt: 2024-10-17 15:21:09 -0400 (Thu, 17 Oct 2024) EllapsedTime: 464.0 seconds RetCode: 0 Status: OK CheckDir: cBioPortalData.Rcheck Warnings: 0