Package: cBioPortalData Version: 2.16.0 Command: rm -rf cBioPortalData.buildbin-libdir && mkdir cBioPortalData.buildbin-libdir && /Users/biocbuild/BBS/utils/build-universal.sh cBioPortalData_2.16.0.tar.gz /Library/Frameworks/R.framework/Resources/bin/R cBioPortalData.buildbin-libdir StartedAt: 2024-10-18 17:39:35 -0400 (Fri, 18 Oct 2024) EndedAt: 2024-10-18 17:40:29 -0400 (Fri, 18 Oct 2024) EllapsedTime: 54.0 seconds RetCode: 0 Status: OK PackageFile: cBioPortalData_2.16.0.tgz PackageFileSize: 1.083 MiB