Package: bumphunter Version: 1.46.0 Command: E:\biocbuild\bbs-3.19-bioc\R\bin\R.exe CMD check --no-multiarch --install=check:bumphunter.install-out.txt --library=E:\biocbuild\bbs-3.19-bioc\R\library --no-vignettes --timings bumphunter_1.46.0.tar.gz StartedAt: 2024-10-16 23:33:35 -0400 (Wed, 16 Oct 2024) EndedAt: 2024-10-16 23:42:51 -0400 (Wed, 16 Oct 2024) EllapsedTime: 555.9 seconds RetCode: 0 Status: OK CheckDir: bumphunter.Rcheck Warnings: 0