Package: bumphunter Version: 1.46.0 Command: rm -rf bumphunter.buildbin-libdir && mkdir bumphunter.buildbin-libdir && F:\biocbuild\bbs-3.19-bioc\R\bin\R.exe CMD INSTALL --build --library=bumphunter.buildbin-libdir bumphunter_1.46.0.tar.gz StartedAt: 2024-06-27 07:56:02 -0400 (Thu, 27 Jun 2024) EndedAt: 2024-06-27 07:56:53 -0400 (Thu, 27 Jun 2024) EllapsedTime: 50.6 seconds RetCode: 0 Status: OK PackageFile: bumphunter_1.46.0.zip PackageFileSize: 4.214 MiB