Package: bumphunter Version: 1.46.0 Command: /home/biocbuild/bbs-3.19-bioc/R/bin/R CMD check --install=check:bumphunter.install-out.txt --library=/home/biocbuild/bbs-3.19-bioc/R/site-library --timings bumphunter_1.46.0.tar.gz StartedAt: 2024-10-16 22:20:57 -0400 (Wed, 16 Oct 2024) EndedAt: 2024-10-16 22:28:39 -0400 (Wed, 16 Oct 2024) EllapsedTime: 462.0 seconds RetCode: 0 Status: OK CheckDir: bumphunter.Rcheck Warnings: 0