Package: bumphunter Version: 1.46.0 Command: /Library/Frameworks/R.framework/Resources/bin/R CMD build --keep-empty-dirs --no-resave-data bumphunter StartedAt: 2024-10-16 17:38:41 -0400 (Wed, 16 Oct 2024) EndedAt: 2024-10-16 17:40:36 -0400 (Wed, 16 Oct 2024) EllapsedTime: 114.5 seconds RetCode: 0 Status: OK PackageFile: bumphunter_1.46.0.tar.gz PackageFileSize: 2.366 MiB