Package: bumphunter Version: 1.46.0 Command: rm -rf bumphunter.buildbin-libdir && mkdir bumphunter.buildbin-libdir && /Users/biocbuild/BBS/utils/build-universal.sh bumphunter_1.46.0.tar.gz /Library/Frameworks/R.framework/Resources/bin/R bumphunter.buildbin-libdir StartedAt: 2024-10-17 15:46:02 -0400 (Thu, 17 Oct 2024) EndedAt: 2024-10-17 15:47:29 -0400 (Thu, 17 Oct 2024) EllapsedTime: 87.5 seconds RetCode: 0 Status: OK PackageFile: bumphunter_1.46.0.tgz PackageFileSize: 4.452 MiB