Package: bumphunter Version: 1.46.0 Command: /home/biocbuild/R/R-beta-2024-04-15_r86425/bin/R CMD build --keep-empty-dirs --no-resave-data bumphunter StartedAt: 2024-05-08 22:59:16 -0000 (Wed, 08 May 2024) EndedAt: 2024-05-08 23:00:21 -0000 (Wed, 08 May 2024) EllapsedTime: 65.1 seconds RetCode: 0 Status: OK PackageFile: bumphunter_1.46.0.tar.gz PackageFileSize: 2.36 MiB