Package: bumphunter Version: 1.46.0 Command: /Library/Frameworks/R.framework/Resources/bin/R CMD build --keep-empty-dirs --no-resave-data bumphunter StartedAt: 2024-10-16 20:44:10 -0400 (Wed, 16 Oct 2024) EndedAt: 2024-10-16 20:45:16 -0400 (Wed, 16 Oct 2024) EllapsedTime: 66.0 seconds RetCode: 0 Status: OK PackageFile: bumphunter_1.46.0.tar.gz PackageFileSize: 2.366 MiB