Package: bugsigdbr Version: 1.10.1 Command: rm -rf bugsigdbr.buildbin-libdir && mkdir bugsigdbr.buildbin-libdir && E:\biocbuild\bbs-3.19-bioc\R\bin\R.exe CMD INSTALL --build --library=bugsigdbr.buildbin-libdir bugsigdbr_1.10.1.tar.gz StartedAt: 2024-10-17 07:27:51 -0400 (Thu, 17 Oct 2024) EndedAt: 2024-10-17 07:28:00 -0400 (Thu, 17 Oct 2024) EllapsedTime: 9.3 seconds RetCode: 0 Status: OK PackageFile: bugsigdbr_1.10.1.zip PackageFileSize: 364.1 KiB