Package: bugsigdbr Version: 1.10.0 Command: chmod a+r bugsigdbr -R && F:\biocbuild\bbs-3.19-bioc\R\bin\R.exe CMD build --keep-empty-dirs --no-resave-data bugsigdbr StartedAt: 2024-06-26 17:33:54 -0400 (Wed, 26 Jun 2024) EndedAt: 2024-06-26 17:34:31 -0400 (Wed, 26 Jun 2024) EllapsedTime: 36.5 seconds RetCode: 0 Status: OK PackageFile: bugsigdbr_1.10.0.tar.gz PackageFileSize: 328.3 KiB