Package: bugsigdbr Version: 1.10.1 Command: /home/biocbuild/bbs-3.19-bioc/R/bin/R CMD check --install=check:bugsigdbr.install-out.txt --library=/home/biocbuild/bbs-3.19-bioc/R/site-library --timings bugsigdbr_1.10.1.tar.gz StartedAt: 2024-10-16 22:20:53 -0400 (Wed, 16 Oct 2024) EndedAt: 2024-10-16 22:23:00 -0400 (Wed, 16 Oct 2024) EllapsedTime: 127.3 seconds RetCode: 0 Status: OK CheckDir: bugsigdbr.Rcheck Warnings: 0