Package: bugsigdbr Version: 1.10.1 Command: /Library/Frameworks/R.framework/Resources/bin/R CMD build --keep-empty-dirs --no-resave-data bugsigdbr StartedAt: 2024-10-16 17:38:21 -0400 (Wed, 16 Oct 2024) EndedAt: 2024-10-16 17:40:50 -0400 (Wed, 16 Oct 2024) EllapsedTime: 148.9 seconds RetCode: 0 Status: OK PackageFile: bugsigdbr_1.10.1.tar.gz PackageFileSize: 328 KiB