Package: bugsigdbr Version: 1.10.0 Command: /home/biocbuild/R/R-beta-2024-04-15_r86425/bin/R CMD build --keep-empty-dirs --no-resave-data bugsigdbr StartedAt: 2024-05-08 22:59:03 -0000 (Wed, 08 May 2024) EndedAt: 2024-05-08 22:59:41 -0000 (Wed, 08 May 2024) EllapsedTime: 38.1 seconds RetCode: 0 Status: OK PackageFile: bugsigdbr_1.10.0.tar.gz PackageFileSize: 394.6 KiB