Package: bugsigdbr Version: 1.10.0 Command: /Library/Frameworks/R.framework/Resources/bin/R CMD INSTALL bugsigdbr StartedAt: 2024-06-09 15:30:40 -0400 (Sun, 09 Jun 2024) EndedAt: 2024-06-09 15:30:45 -0400 (Sun, 09 Jun 2024) EllapsedTime: 4.4 seconds RetCode: 0 Status: OK