Package: bugsigdbr Version: 1.10.0 Command: rm -rf bugsigdbr.buildbin-libdir && mkdir bugsigdbr.buildbin-libdir && /Users/biocbuild/BBS/utils/build-universal.sh bugsigdbr_1.10.0.tar.gz /Library/Frameworks/R.framework/Resources/bin/R bugsigdbr.buildbin-libdir StartedAt: 2024-06-11 10:24:54 -0400 (Tue, 11 Jun 2024) EndedAt: 2024-06-11 10:25:00 -0400 (Tue, 11 Jun 2024) EllapsedTime: 6.8 seconds RetCode: 0 Status: OK PackageFile: bugsigdbr_1.10.0.tgz PackageFileSize: 358.7 KiB