Package: bugsigdbr Version: 1.10.1 Command: /Library/Frameworks/R.framework/Resources/bin/R CMD INSTALL bugsigdbr StartedAt: 2024-10-16 16:12:53 -0400 (Wed, 16 Oct 2024) EndedAt: 2024-10-16 16:12:57 -0400 (Wed, 16 Oct 2024) EllapsedTime: 3.5 seconds RetCode: 0 Status: OK