Package: bugsigdbr Version: 1.10.1 Command: /Library/Frameworks/R.framework/Resources/bin/R CMD build --keep-empty-dirs --no-resave-data bugsigdbr StartedAt: 2024-10-16 20:43:08 -0400 (Wed, 16 Oct 2024) EndedAt: 2024-10-16 20:44:30 -0400 (Wed, 16 Oct 2024) EllapsedTime: 81.3 seconds RetCode: 0 Status: OK PackageFile: bugsigdbr_1.10.1.tar.gz PackageFileSize: 328 KiB