Package: bugsigdbr Version: 1.10.1 Command: rm -rf bugsigdbr.buildbin-libdir && mkdir bugsigdbr.buildbin-libdir && /Users/biocbuild/BBS/utils/build-universal.sh bugsigdbr_1.10.1.tar.gz /Library/Frameworks/R.framework/Resources/bin/R bugsigdbr.buildbin-libdir StartedAt: 2024-10-18 17:36:28 -0400 (Fri, 18 Oct 2024) EndedAt: 2024-10-18 17:36:32 -0400 (Fri, 18 Oct 2024) EllapsedTime: 3.5 seconds RetCode: 0 Status: OK PackageFile: bugsigdbr_1.10.1.tgz PackageFileSize: 358.7 KiB