Package: bsseq Version: 1.40.0 Command: rm -rf bsseq.buildbin-libdir && mkdir bsseq.buildbin-libdir && E:\biocbuild\bbs-3.19-bioc\R\bin\R.exe CMD INSTALL --build --library=bsseq.buildbin-libdir bsseq_1.40.0.tar.gz StartedAt: 2024-10-17 07:27:44 -0400 (Thu, 17 Oct 2024) EndedAt: 2024-10-17 07:29:14 -0400 (Thu, 17 Oct 2024) EllapsedTime: 90.1 seconds RetCode: 0 Status: OK PackageFile: bsseq_1.40.0.zip PackageFileSize: 3.819 MiB