Package: bsseq Version: 1.40.0 Command: chmod a+r bsseq -R && F:\biocbuild\bbs-3.19-bioc\R\bin\R.exe CMD build --keep-empty-dirs --no-resave-data bsseq StartedAt: 2024-06-26 17:33:25 -0400 (Wed, 26 Jun 2024) EndedAt: 2024-06-26 17:37:08 -0400 (Wed, 26 Jun 2024) EllapsedTime: 222.6 seconds RetCode: 0 Status: OK PackageFile: bsseq_1.40.0.tar.gz PackageFileSize: 2.65 MiB