Package: bsseq Version: 1.40.0 Command: /Library/Frameworks/R.framework/Resources/bin/R CMD INSTALL bsseq StartedAt: 2024-06-09 15:22:42 -0400 (Sun, 09 Jun 2024) EndedAt: 2024-06-09 15:24:13 -0400 (Sun, 09 Jun 2024) EllapsedTime: 90.9 seconds RetCode: 0 Status: OK