Package: bsseq Version: 1.40.0 Command: /home/biocbuild/R/R-beta-2024-04-15_r86425/bin/R CMD INSTALL bsseq StartedAt: 2024-05-08 20:26:36 -0000 (Wed, 08 May 2024) EndedAt: 2024-05-08 20:28:27 -0000 (Wed, 08 May 2024) EllapsedTime: 110.4 seconds RetCode: 0 Status: OK