Package: bsseq Version: 1.40.0 Command: /home/biocbuild/R/R-beta-2024-04-15_r86425/bin/R CMD build --keep-empty-dirs --no-resave-data bsseq StartedAt: 2024-05-08 22:58:37 -0000 (Wed, 08 May 2024) EndedAt: 2024-05-08 23:02:21 -0000 (Wed, 08 May 2024) EllapsedTime: 224.3 seconds RetCode: 0 Status: OK PackageFile: bsseq_1.40.0.tar.gz PackageFileSize: 2.809 MiB