Package: bsseq Version: 1.40.0 Command: /Library/Frameworks/R.framework/Resources/bin/R CMD INSTALL bsseq StartedAt: 2024-10-16 16:38:53 -0400 (Wed, 16 Oct 2024) EndedAt: 2024-10-16 16:40:12 -0400 (Wed, 16 Oct 2024) EllapsedTime: 79.2 seconds RetCode: 0 Status: OK