Package: brendaDb Version: 1.18.0 Command: E:\biocbuild\bbs-3.19-bioc\R\bin\R.exe CMD INSTALL brendaDb StartedAt: 2024-10-16 16:15:15 -0400 (Wed, 16 Oct 2024) EndedAt: 2024-10-16 16:15:40 -0400 (Wed, 16 Oct 2024) EllapsedTime: 24.7 seconds RetCode: 0 Status: OK