Package: brendaDb Version: 1.18.0 Command: E:\biocbuild\bbs-3.19-bioc\R\bin\R.exe CMD check --no-multiarch --install=check:brendaDb.install-out.txt --library=E:\biocbuild\bbs-3.19-bioc\R\library --no-vignettes --timings brendaDb_1.18.0.tar.gz StartedAt: 2024-10-16 23:30:45 -0400 (Wed, 16 Oct 2024) EndedAt: 2024-10-16 23:33:35 -0400 (Wed, 16 Oct 2024) EllapsedTime: 170.0 seconds RetCode: 0 Status: OK CheckDir: brendaDb.Rcheck Warnings: 0