Package: brendaDb Version: 1.18.0 Command: rm -rf brendaDb.buildbin-libdir && mkdir brendaDb.buildbin-libdir && F:\biocbuild\bbs-3.19-bioc\R\bin\R.exe CMD INSTALL --build --library=brendaDb.buildbin-libdir brendaDb_1.18.0.tar.gz StartedAt: 2024-06-27 07:55:32 -0400 (Thu, 27 Jun 2024) EndedAt: 2024-06-27 07:56:04 -0400 (Thu, 27 Jun 2024) EllapsedTime: 32.4 seconds RetCode: 0 Status: OK PackageFile: brendaDb_1.18.0.zip PackageFileSize: 1.065 MiB